BEGIN:VCALENDAR
VERSION:2.0
PRODID:-//Your Organization//NONSGML v1.0//EN
BEGIN:VEVENT
SUMMARY:Ivona i Matej
DTSTART:20260613T000000
DTEND:20260614T235900
DESCRIPTION:No description
LOCATION:Hotel BUNA\, Buna bb\, Buna 88202\, Bosnia and Herzegovina
END:VEVENT
END:VCALENDAR
